Workbook

Sheet Sheet1
A1: 第三批试剂耗材咨询产品项目清单
A2: 标段号 | B2: 序号 | C2: 商品名称 | D2: 参考规格/型号 | E2: 采购需求（适用设备、技术、服务要求、方法学等） | F2: 适用科室
A3: 2023227 | B3: 1 | C3: M-53探头清洁液 | D3: 50ml/瓶 | E3: 适用五分类血液分析仪（迈瑞BC-5380） | F3: 门诊
A4: 2023228 | B4: 2 | C4: 曙红Y | D4: 25g/瓶 | E4: 手工操作 生物染色剂 | F4: 病理科
B5: 3 | C5: 无水苏木色精 | D5: 71020784 显微镜用 FMP 10g | E5: 手工操作 生物染色剂 | F5: 病理科
A6: 2023229 | B6: 4 | C6: 细胞保存液 | D6: TCT-300 200人份/箱 | E6: 手工操作，耗材 | F6: 病理科
A7: 2023230 | B7: 5 | C7: 上皮细胞FH染色试剂 | D7: 结直肠粘膜细胞型 医用单人份 | E7: 手工操作 | F7: 病理科
A8: 2023231 | B8: 6 | C8: 钠库仑一氧化氮检测器 | D8: SV-eNO-03 | E8: 适用钠库仑呼气分析仪 | F8: 呼吸与危重症医学科住院病区
A9: 2023232 | B9: 7 | C9: 降钙素原测定试剂盒（免疫色谱法） | D9: 25人份/盒 | E9: 适用于赛默飞胶体金试纸分析仪 型号:HR201 | F9: 急诊、ICU
A10: 2023233 | B10: 8 | C10: B型鈉尿肽检测试剂盒（荧光免疫法） | D10: 25人份/盒 | E10: 适用于荧光免疫分析仪Quidel Triage MeterPro 专机专用 | F10: 急诊、ICU、心内
B11: 9 | C11: 心肺功能五项联检试剂盒（荧光免疫法） | D11: 25人份/盒 | E11: 适用于荧光免疫分析仪Quidel Triage MeterPro 专机专用 | F11: 急诊、ICU、心内
B12: 10 | C12: 心肌损伤三项联检试剂盒（免疫荧光法） | D12: 25人份/盒 | E12: 适用于荧光免疫分析仪Quidel Triage MeterPro 专机专用 | F12: 急诊、ICU、心内
A13: 2023234 | B13: 11 | C13: 测试卡 | D13: SC90 | E13: 血气分析仪（丹麦雷度ABL90 FLEX） | F13: 急诊内科、儿科
A14: 2023235 | B14: 12 | C14: 抗D(IgG+IgM)血型定型试剂(单克隆抗体) | D14: 10nl/瓶 | E14: 用于血型鉴定（手工） | F14: 输血科
A15: 2023236 | B15: 13 | C15: ABO/Rh 血型复检卡(柱凝集法) | D15: 707136(产品编码):100卡/盒 | E15: 手工操作 卡式双人份独立包装，适用于血液标本检测 | F15: 输血科
B16: 14 | C16: ABO/Rh血型复检卡(柱凝集法) | D16: 707135(产品编码):100卡/盒 | E16: 手工操作 卡式双人份独立包装，适用于血液标本检测 | F16: 输血科
B17: 15 | C17: ABO正反定型及RhD血型定型试剂卡(柱凝集法) | D17: 707100 400卡/盒(20卡/小盒) | E17: 奥森多血型分析仪、手工 | F17: 输血科
B18: 16 | C18: 抗人球蛋白(IgG)检测卡(柱凝集法) | D18: 100试剂卡/包装 | E18: 手工操作 卡式多人份独立包装，适用于血液标本检测 | F18: 输血科
A19: 2023237 | B19: 17 | C19: 血栓弹力图(肝素酶杯)检测试剂盒(粘度测定法) | D19: 5人份/盒 | E19: 血栓弹力图仪CFMS LEPU-8800 | F19: 输血科
B20: 18 | C20: 血栓弹力图(普通杯)检测试剂盒(粘度测定法) | D20: 10人份/盒 | E20: 血栓弹力图仪CFMS LEPU-8800 | F20: 输血科
B21: 19 | C21: 血小板聚集功能(AA途径)检测试剂盒(粘度测定法) | D21: 1人份/盒 | E21: 血栓弹力图仪CFMS LEPU-8800 | F21: 输血科
B22: 20 | C22: 血小板聚集功能(ADP及AA途径)检测试剂盒(粘度测定法) | D22: 1人份/盒 | E22: 血栓弹力图仪CFMS LEPU-8800 | F22: 输血科
B23: 21 | C23: 血小板聚集功能(ADP途径)检测试剂盒(粘度测定法) | D23: 1人份/盒 | E23: 血栓弹力图仪CFMS LEPU-8800 | F23: 输血科
A24: 2023238 | B24: 22 | C24: ABO血型反定型、不规则抗体筛查质控品 | D24: 3ml/支,5支/套 | E24: 手工操作 独立包装，适用于室内质控检测 | F24: 输血科
A25: 2023239 | B25: 23 | C25: 半自动血型分析仪专用稀释杯(Vigion稀释盘) | D25: 180个/盒 | E25: 强生ORTHO AutoVue Innova血型分析仪 | F25: 输血科
A26: 2023240 | B26: 24 | C26: 仪器保养液 | D26: 15×12mL/盒 | E26: 奥森多血型分析仪 | F26: 输血科
A27: 2023241 | B27: 25 | C27: 抗D(IgM+IgG)血型定型试剂(单克隆抗体) | D27: 10瓶/盒 | E27: 手工操作 独立包装，适用于血液标本检测 | F27: 输血科
A28: 2023242 | B28: 26 | C28: RhD(IgM)血型定型试剂(单克隆抗体) | D28: 1支/盒 | E28: 手工操作 独立包装，适用于血液标本检测 | F28: 输血科
B29: 27 | C29: 抗A抗B血型定型试剂(单克隆抗体) | D29: 10ml | E29: 手工操作 独立包装，适用于血液标本检测 | F29: 输血科
B30: 28 | C30: 抗体筛选红细胞试剂盒 | D30: 5ml/支 | E30: 手工操作 独立包装，适用于血液标本检测 | F30: 输血科
A31: 2023243 | B31: 29 | C31: 血型试剂质控试剂盒 | D31: 4mL/支,4支/盒 | E31: 奥森多血型分析仪、手工 | F31: 输血科
A32: 2023244 | B32: 30 | C32: 抗人球蛋白(C3d)检测试剂盒 | D32: 5ml/支 | E32: 用于Coombs试验（手工） | F32: 输血科
B33: 31 | C33: 抗人球蛋白(IgG)检测试剂盒 | D33: 5ml/支 | E33: 用于Coombs试验（手工） | F33: 输血科
B34: 32 | C34: 抗人球蛋白(抗IgG,C3d)检测试剂盒 | D34: 10ml/支 | E34: 用于Coombs试验（手工） | F34: 输血科
A35: 2023245 | B35: 33 | C35: 样本释放剂（原2me） | D35: 1ml | E35: 用于新生儿溶血病检测（手工） | F35: 输血科
A36: 2023246 | B36: 34 | C36: 一次性使用单采血液成份分离器 | D36: P-2000IU | E36: 血液成份分离仪（四川南格尔NGL XCF3000） | F36: 输血科
B37: 35 | C37: 一次性使用单采血液成份分离器 | D37: P-2000IL | E37: 血液成份分离仪（四川南格尔NGL XCF3000） | F37: 输血科
A38: 2023247 | B38: 36 | C38: 交叉配血质控品 | D38: 5支/盒 | E38: 手工操作 独立包装，适用于室内质控检测 | F38: 输血科
A39: 2023248 | B39: 37 | C39: 血型鉴定及不规则抗体筛查质控品 | D39: 8支/盒 | E39: 血栓弹力图仪CFMS LEPU-8800 | F39: 输血科
A40: 2023249 | B40: 38 | C40: ABO、RhD血型定型检测卡(单克隆抗体) | D40: 12人份/盒 | E40: 手工操作 卡式单人份独立包装，适用于血液标本检测 | F40: 输血科
B41: 39 | C41: ABO、RhD血型检测卡(微柱凝胶) | D41: 12卡/盒 | E41: 手工操作 卡式双人份独立包装，适用于血液标本检测 | F41: 输血科
B42: 40 | C42: ABO血型反定型检测卡(微柱凝胶) | D42: 12卡/盒(货号:BX1010) | E42: 手工操作 卡式多人份独立包装，适用于血液标本检测 | F42: 输血科
B43: 41 | C43: ABO血型反定型试剂盒(人血红细胞) | D43: 每盒有A₁、B、O细胞各一瓶。5mL/瓶,浓度4%(货号:BX2001-5-1) | E43: 手工操作 独立包装，适用于血液标本检测 | F43: 输血科
B44: 42 | C44: Rh血型抗原检测卡(单克隆抗体) | D44: 12人份/盒 | E44: 手工操作 卡式单人份独立包装，适用于血液标本检测 | F44: 输血科
B45: 43 | C45: Rh血型抗原检测卡(单克隆抗体) | D45: 24人份/盒(货号:BX1005-1) | E45: 手工操作 卡式双人份独立包装，适用于血液标本检测 | F45: 输血科
B46: 44 | C46: 不规则抗体检测试剂(人血红细胞) | D46: 每盒有OⅠ、OⅡ、OⅢ红细胞各一瓶,5ml/瓶,浓度4% | E46: 手工操作 独立包装，适用于血液标本检测 | F46: 输血科
B47: 45 | C47: 抗人球蛋白检测卡 | D47: 12卡/盒 | E47: 手工操作 卡式多人份独立包装，适用于血液标本检测 | F47: 输血科
B48: 46 | C48: 抗人球蛋白检测卡(抗IgG、抗C3d) | D48: 12卡/盒(货号:BX1016) | E48: 手工操作 卡式多人份独立包装，适用于血液标本检测 | F48: 输血科
B49: 47 | C49: 抗人球蛋白检测卡(抗IgG+C3d) | D49: 12卡/盒(货号:BX1015) | E49: 手工操作 卡式多人份独立包装，适用于血液标本检测 | F49: 输血科
A50: 2023250 | B50: 48 | C50: 凝聚胺介质试剂 | D50: 150人份/盒 | E50: 用于交叉配血试验（手工） | F50: 输血科
A51: 2023251 | B51: 49 | C51: 碱性清洁剂 | D51: 3800ml | E51: 设备清洁用 | F51: 中心供应室
A52: 2023252 | B52: 50 | C52: 测序反应通用试剂盒 | D52: 25μl/支 | E52: PCR仪（定性PCR仪MASTERCYCLER 96孔） | F52: 药剂科
A53: 2023253 | B53: 51 | C53: 丙戊酸定标液 | D53: 1×5mL,5×2mL | E53: 全自动药物浓度分析仪（西门子Viva-E) | F53: 药剂科
A54: 2023254 | B54: 52 | C54: 人类免疫缺陷病毒(HIV)1+2型抗体检测试剂盒(胶体硒法) | D54: 100个测试/包装袋 | E54: 手工操作 胶体硒法定性检测人类免疫缺陷病毒1+2型抗体 | F54: 医学检验科
B55: 53 | C55: 人类免疫缺陷病毒p24抗原及抗体检测试剂盒(胶体硒法) | D55: 100个测试/包装袋 | E55: 手工操作 胶体硒法定性检测人类免疫缺陷病毒p24抗原及抗体 | F55: 医学检验科
A56: 2023255 | B56: 54 | C56: 胰酶 | D56: 100g/瓶 | E56: 染色体核型分析的消化液 | F56: 医学检验科
A57: 2023256 | B57: 55 | C57: 妊娠相关血浆蛋白A测定试剂（时间分辨荧光法） | D57: 96人份/盒 | E57: PerkinElmer 6000Immunoanalyzer，唐筛项目 | F57: 医学检验科
B58: 56 | C58: 游离绒毛膜促性腺激素β亚基测定试剂盒（时间分辨荧光法） | D58: 96人份/盒 | E58: PerkinElmer 6000Immunoanalyzer，唐筛项目 | F58: 医学检验科
B59: 57 | C59: 甲胎蛋白测定试剂盒（时间分辨荧光法） | D59: 96人份/盒 | E59: PerkinElmer 6000Immunoanalyzer，唐筛项目 | F59: 医学检验科
B60: 58 | C60: 游离雌三醇测定试剂盒（时间分辨荧光法） | D60: 96人份/盒 | E60: PerkinElmer 6000Immunoanalyzer，唐筛项目 | F60: 医学检验科
B61: 59 | C61: 诱导剂 | D61: 8x30ml/盒 | E61: PerkinElmer 6000Immunoanalyzer唐氏筛查用试剂 | F61: 医学检验科
B62: 60 | C62: 洗液 | D62: 8x30ml/盒 | E62: PerkinElmer 6000Immunoanalyzer唐氏筛查用试剂 | F62: 医学检验科
A63: 2023257 | B63: 61 | C63: C3毛细管 | D63: 1根/盒 | E63: sebia赛比亚血红蛋白电泳仪器的配件 | F63: 医学检验科
B64: 62 | C64: C3毛细管仪器护理液 | D64: 25ml/盒 | E64: sebia赛比亚血红蛋白电泳仪的护理液 | F64: 医学检验科
B65: 63 | C65: C3清洗液 | D65: 75ml/盒 | E65: sebia赛比亚血红蛋白电泳仪的清洗液 | F65: 医学检验科
B66: 64 | C66: C3样品稀释杯 | D66: 24x14 | E66: sebia赛比亚血红蛋白电泳仪的稀释杯 | F66: 医学检验科
B67: 65 | C67: CAPILLARYS保养套件 | D67: 1个/盒 | E67: sebia赛比亚血红蛋白电泳仪的保养套件 | F67: 医学检验科
B68: 66 | C68: 正常HbA2质控品 | D68: 5瓶/盒 | E68: sebia赛比亚血红蛋白电泳仪的质控品 | F68: 医学检验科
B69: 67 | C69: 质控品用试管（带盖） | D69: 20个/盒 | E69: sebia赛比亚血红蛋白电泳仪的质控品试管 | F69: 医学检验科
B70: 68 | C70: 血红蛋白测定试剂盒（电泳法） | D70: 2x700ml | E70: sebia赛比亚血红蛋白电泳仪的主要试剂盒 | F70: 医学检验科
A71: 2023258 | B71: 69 | C71: 清洗液 | D71: 8×40mL | E71: 化学发光 分析仪DELFIA Xpress6007 | F71: 医学检验科
B72: 70 | C72: 游离雌三醇测定试剂盒(时间分辨荧光法) | D72: 96人份/盒 | E72: 化学发光 分析仪DELFIA Xpress6006 | F72: 医学检验科
B73: 71 | C73: 游离绒毛膜促性腺激素β亚基测定试剂盒(时间分辨荧光法) | D73: 96人份/盒 | E73: 化学发光 分析仪DELFIA Xpress6006 | F73: 医学检验科
A74: 2023259 | B74: 72 | C74: 便隐血(FOB)检测试剂(胶体金法) | D74: 条型单人份:50人份/盒(带样品收集管) | E74: 手工操作 条式单人份独立包装，适用于粪便或体液标本检测 | F74: 医学检验科
B75: 73 | C75: 乙型肝炎病毒表面抗原检测试剂盒(胶体金法) | D75: 条型筒装:100人份/盒(25人份/筒×4筒) | E75: 手工操作 单人份包装，血清、血浆胶体金法定性检测乙型肝炎病毒表面抗原 | F75: 医学检验科
B76: 74 | C76: 血红蛋白试纸条(干式化学法) | D76: 试纸条型:100人份/盒 | E76: 手工操作 单人份包装，干化学法体液、粪便隐血试验 | F76: 医学检验科
A77: 2023260 | B77: 75 | C77: CD3/CD16+CD56/CD45/CD19检测试剂盒(流式细胞仪法) | D77: 100测试/瓶 | E77: 安捷伦NovoCyte流式细胞仪 | F77: 医学检验科
B78: 76 | C78: CD3/CD16+CD56/CD45/CD19检测试剂盒(流式细胞仪法-FITC/PE/PerCP/APC) | D78: 100测试/瓶 | E78: 安捷伦NovoCyte流式细胞仪 | F78: 医学检验科
B79: 77 | C79: CD3/CD16+CD56/CD45/CD19检测试剂盒(流式细胞仪法) | D79: 100测试/盒 | E79: 安捷伦NovoCyte流式细胞仪 | F79: 医学检验科
B80: 78 | C80: CD3/CD8/CD45/CD4检测试剂盒(流式细胞仪法-FITC/PE/PerCP/APC) | D80: 100测试/瓶 | E80: 安捷伦NovoCyte流式细胞仪 | F80: 医学检验科
A81: 2023261 | B81: 79 | C81: 阿米卡星药敏实验纸片(扩散法) | D81: 50片/支 | E81: MH法细菌药敏试验用；微生物检验用 | F81: 医学检验科
B82: 80 | C82: 氨苄西林/舒巴坦药敏实验纸片(扩散法) | D82: 50片/支 | E82: MH法细菌药敏试验用；微生物检验用 | F82: 医学检验科
B83: 81 | C83: 氨苄西林药敏实验纸片(扩散法) | D83: 50片/支 | E83: MH法细菌药敏试验用；微生物检验用 | F83: 医学检验科
B84: 82 | C84: 氨曲南药敏实验纸片(扩散法) | D84: 50片/支 | E84: MH法细菌药敏试验用；微生物检验用 | F84: 医学检验科
B85: 83 | C85: 苯唑西林药敏实验纸片(扩散法) | D85: 50片/支 | E85: MH法细菌药敏试验用；微生物检验用 | F85: 医学检验科
B86: 84 | C86: 厄他培南药敏实验纸片(扩散法) | D86: 50片/支 | E86: MH法细菌药敏试验用；微生物检验用 | F86: 医学检验科
B87: 85 | C87: 红霉素药敏实验纸片(扩散法) | D87: 50片/支 | E87: MH法细菌药敏试验用；微生物检验用 | F87: 医学检验科
B88: 86 | C88: 环丙沙星药敏实验纸片(扩散法) | D88: 50片/支 | E88: MH法细菌药敏试验用；微生物检验用 | F88: 医学检验科
B89: 87 | C89: 磺胺甲恶唑/甲氧苄啶药敏实验纸片(扩散法) | D89: 50片/支 | E89: MH法细菌药敏试验用；微生物检验用 | F89: 医学检验科
B90: 88 | C90: 克林霉素药敏实验纸片(扩散法) | D90: 50片/支 | E90: MH法细菌药敏试验用；微生物检验用 | F90: 医学检验科
B91: 89 | C91: 利奈唑胺药敏实验纸片(扩散法) | D91: 50片/支 | E91: MH法细菌药敏试验用；微生物检验用 | F91: 医学检验科
B92: 90 | C92: 氯霉素药敏实验纸片(扩散法) | D92: 50片/支 | E92: MH法细菌药敏试验用；微生物检验用 | F92: 医学检验科
B93: 91 | C93: 美罗培能药敏实验纸片(扩散法) | D93: 50片/支 | E93: MH法细菌药敏试验用；微生物检验用 | F93: 医学检验科
... B109: 107 | C109: 左氧氟沙星药敏实验纸片(扩散法) | D109: 50片/支 | E109: MH法药敏试验用；微生物检验用 | F109: 医学检验科
A110: 2023262 | B110: 108 | C110: 血凝清洗液 | D110: 5L | E110: 希森美康凝血仪cs5100 | F110: 医学检验科
A111: 2023263 | B111: 109 | C111: A型流感病毒IgM抗体检测试剂盒(磁微粒化学发光法) | D111: 100人份/盒 | E111: 化学发光分析仪（赛维生物VI-200） | F111: 医学检验科
B112: 110 | C112: B型流感病毒IgM抗体检测试剂盒(磁微粒化学发光法) | D112: 100人份/盒 | E112: 化学发光分析仪（赛维生物VI-200） | F112: 医学检验科
B113: 111 | C113: EB病毒VCA抗体(IgA)检测试剂盒(磁微粒化学发光法) | D113: 100人份/盒 | E113: 化学发光分析仪（赛维生物VI-200） | F113: 医学检验科
B114: 112 | C114: EB病毒壳抗原(VCA)IgG抗体检测试剂盒(磁微粒化学发光法) | D114: 100人份/盒 | E114: 化学发光分析仪（赛维生物VI-200） | F114: 医学检验科
B115: 113 | C115: EB病毒早期抗原(EA)IgA抗体检测试剂盒(磁微粒化学发光法) | D115: 100人份/盒 | E115: 化学发光分析仪（赛维生物VI-200） | F115: 医学检验科
...

Sheet Sheet2
A1: 第三批试剂耗材咨询产品项目清单
A2: 标段号 | B2: 序号 | C2: 报名家数 | D2: 商品名称 | E2: 参考规格/型号 | F2: 采购需求（适用设备、技术、服务要求、方法学等） | G2: 适用科室
A3: 2023227 | B3: 1 | C3: =VLOOKUP(A3,[1]第三批咨询报名统计!$E$2:$G$144,3,0) -> 0 | D3: M-53探头清洁液 | E3: 50ml/瓶 | F3: 适用五分类血液分析仪（迈瑞BC-5380） | G3: 门诊
A4: 2023228 | B4: 2 | C4: =VLOOKUP(A4,[1]第三批咨询报名统计!$E$2:$G$144,3,0) -> 0 | D4: 曙红Y | E4: 25g/瓶 | F4: 手工操作 生物染色剂 | G4: 病理科
B5: 3 | D5: 无水苏木色精 | E5: 71020784 显微镜用 FMP 10g | F5: 手工操作 生物染色剂 | G5: 病理科
A6: 2023229 | B6: 4 | C6: =VLOOKUP(A6,[1]第三批咨询报名统计!$E$2:$G$144,3,0) -> 1 | D6: 细胞保存液 | E6: TCT-300 200人份/箱 | F6: 手工操作，耗材 | G6: 病理科
A7: 2023230 | B7: 5 | C7: =VLOOKUP(A7,[1]第三批咨询报名统计!$E$2:$G$144,3,0) -> 0 | D7: 上皮细胞FH染色试剂 | E7: 结直肠粘膜细胞型 医用单人份 | F7: 手工操作 | G7: 病理科
A8: 2023231 | B8: 6 | C8: =VLOOKUP(A8,[1]第三批咨询报名统计!$E$2:$G$144,3,0) -> 0 | D8: 钠库仑一氧化氮检测器 | E8: SV-eNO-03 | F8: 适用钠库仑呼气分析仪 | G8: 呼吸与危重症医学科住院病区
A9: 2023232 | B9: 7 | C9: =VLOOKUP(A9,[1]第三批咨询报名统计!$E$2:$G$144,3,0) -> 1 | D9: 降钙素原测定试剂盒（免疫色谱法） | E9: 25人份/盒 | F9: 适用于赛默飞胶体金试纸分析仪 型号:HR201 | G9: 急诊、ICU
A10: 2023233 | B10: 8 | C10: =VLOOKUP(A10,[1]第三批咨询报名统计!$E$2:$G$144,3,0) -> 1 | D10: B型鈉尿肽检测试剂盒（荧光免疫法） | E10: 25人份/盒 | F10: 适用于荧光免疫分析仪Quidel Triage MeterPro 专机专用 | G10: 急诊、ICU、心内
B11: 9 | D11: 心肺功能五项联检试剂盒（荧光免疫法） | E11: 25人份/盒 | F11: 适用于荧光免疫分析仪Quidel Triage MeterPro 专机专用 | G11: 急诊、ICU、心内
B12: 10 | D12: 心肌损伤三项联检试剂盒（免疫荧光法） | E12: 25人份/盒 | F12: 适用于荧光免疫分析仪Quidel Triage MeterPro 专机专用 | G12: 急诊、ICU、心内
A13: 2023234 | B13: 11 | C13: =VLOOKUP(A13,[1]第三批咨询报名统计!$E$2:$G$144,3,0) -> 1 | D13: 测试卡 | E13: SC90 | F13: 血气分析仪（丹麦雷度ABL90 FLEX） | G13: 急诊内科、儿科
A14: 2023235 | B14: 12 | C14: =VLOOKUP(A14,[1]第三批咨询报名统计!$E$2:$G$144,3,0) -> 2 | D14: 抗D(IgG+IgM)血型定型试剂(单克隆抗体) | E14: 10nl/瓶 | F14: 用于血型鉴定（手工） | G14: 输血科
A15: 2023236 | B15: 13 | C15: =VLOOKUP(A15,[1]第三批咨询报名统计!$E$2:$G$144,3,0) -> 2 | D15: ABO/Rh 血型复检卡(柱凝集法) | E15: 707136(产品编码):100卡/盒 | F15: 手工操作 卡式双人份独立包装，适用于血液标本检测 | G15: 输血科
B16: 14 | D16: ABO/Rh血型复检卡(柱凝集法) | E16: 707135(产品编码):100卡/盒 | F16: 手工操作 卡式双人份独立包装，适用于血液标本检测 | G16: 输血科
B17: 15 | D17: ABO正反定型及RhD血型定型试剂卡(柱凝集法) | E17: 707100 400卡/盒(20卡/小盒) | F17: 奥森多血型分析仪、手工 | G17: 输血科
B18: 16 | D18: 抗人球蛋白(IgG)检测卡(柱凝集法) | E18: 100试剂卡/包装 | F18: 手工操作 卡式多人份独立包装，适用于血液标本检测 | G18: 输血科
A19: 2023237 | B19: 17 | C19: =VLOOKUP(A19,[1]第三批咨询报名统计!$E$2:$G$144,3,0) -> 1 | D19: 血栓弹力图(肝素酶杯)检测试剂盒(粘度测定法) | E19: 5人份/盒 | F19: 血栓弹力图仪CFMS LEPU-8800 | G19: 输血科
B20: 18 | D20: 血栓弹力图(普通杯)检测试剂盒(粘度测定法) | E20: 10人份/盒 | F20: 血栓弹力图仪CFMS LEPU-8800 | G20: 输血科
B21: 19 | D21: 血小板聚集功能(AA途径)检测试剂盒(粘度测定法) | E21: 1人份/盒 | F21: 血栓弹力图仪CFMS LEPU-8800 | G21: 输血科
B22: 20 | D22: 血小板聚集功能(ADP及AA途径)检测试剂盒(粘度测定法) | E22: 1人份/盒 | F22: 血栓弹力图仪CFMS LEPU-8800 | G22: 输血科
B23: 21 | D23: 血小板聚集功能(ADP途径)检测试剂盒(粘度测定法) | E23: 1人份/盒 | F23: 血栓弹力图仪CFMS LEPU-8800 | G23: 输血科
A24: 2023238 | B24: 22 | C24: =VLOOKUP(A24,[1]第三批咨询报名统计!$E$2:$G$144,3,0) -> 1 | D24: ABO血型反定型、不规则抗体筛查质控品 | E24: 3ml/支,5支/套 | F24: 手工操作 独立包装，适用于室内质控检测 | G24: 输血科
A25: 2023239 | B25: 23 | C25: =VLOOKUP(A25,[1]第三批咨询报名统计!$E$2:$G$144,3,0) -> 1 | D25: 半自动血型分析仪专用稀释杯(Vigion稀释盘) | E25: 180个/盒 | F25: 强生ORTHO AutoVue Innova血型分析仪 | G25: 输血科
A26: 2023240 | B26: 24 | C26: =VLOOKUP(A26,[1]第三批咨询报名统计!$E$2:$G$144,3,0) -> 1 | D26: 仪器保养液 | E26: 15×12mL/盒 | F26: 奥森多血型分析仪 | G26: 输血科
A27: 2023241 | B27: 25 | C27: =VLOOKUP(A27,[1]第三批咨询报名统计!$E$2:$G$144,3,0) -> 2 | D27: 抗D(IgM+IgG)血型定型试剂(单克隆抗体) | E27: 10瓶/盒 | F27: 手工操作 独立包装，适用于血液标本检测 | G27: 输血科
A28: 2023242 | B28: 26 | C28: =VLOOKUP(A28,[1]第三批咨询报名统计!$E$2:$G$144,3,0) -> 1 | D28: RhD(IgM)血型定型试剂(单克隆抗体) | E28: 1支/盒 | F28: 手工操作 独立包装，适用于血液标本检测 | G28: 输血科
B29: 27 | D29: 抗A抗B血型定型试剂(单克隆抗体) | E29: 10ml | F29: 手工操作 独立包装，适用于血液标本检测 | G29: 输血科
B30: 28 | D30: 抗体筛选红细胞试剂盒 | E30: 5ml/支 | F30: 手工操作 独立包装，适用于血液标本检测 | G30: 输血科
A31: 2023243 | B31: 29 | C31: =VLOOKUP(A31,[1]第三批咨询报名统计!$E$2:$G$144,3,0) -> 2 | D31: 血型试剂质控试剂盒 | E31: 4mL/支,4支/盒 | F31: 奥森多血型分析仪、手工 | G31: 输血科
A32: 2023244 | B32: 30 | C32: =VLOOKUP(A32,[1]第三批咨询报名统计!$E$2:$G$144,3,0) -> 1 | D32: 抗人球蛋白(C3d)检测试剂盒 | E32: 5ml/支 | F32: 用于Coombs试验（手工） | G32: 输血科
B33: 31 | D33: 抗人球蛋白(IgG)检测试剂盒 | E33: 5ml/支 | F33: 用于Coombs试验（手工） | G33: 输血科
B34: 32 | D34: 抗人球蛋白(抗IgG,C3d)检测试剂盒 | E34: 10ml/支 | F34: 用于Coombs试验（手工） | G34: 输血科
A35: 2023245 | B35: 33 | C35: =VLOOKUP(A35,[1]第三批咨询报名统计!$E$2:$G$144,3,0) -> 1 | D35: 样本释放剂（原2me） | E35: 1ml | F35: 用于新生儿溶血病检测（手工） | G35: 输血科
A36: 2023246 | B36: 34 | C36: =VLOOKUP(A36,[1]第三批咨询报名统计!$E$2:$G$144,3,0) -> 0 | D36: 一次性使用单采血液成份分离器 | E36: P-2000IU | F36: 血液成份分离仪（四川南格尔NGL XCF3000） | G36: 输血科
B37: 35 | D37: 一次性使用单采血液成份分离器 | E37: P-2000IL | F37: 血液成份分离仪（四川南格尔NGL XCF3000） | G37: 输血科
A38: 2023247 | B38: 36 | C38: =VLOOKUP(A38,[1]第三批咨询报名统计!$E$2:$G$144,3,0) -> 1 | D38: 交叉配血质控品 | E38: 5支/盒 | F38: 手工操作 独立包装，适用于室内质控检测 | G38: 输血科
A39: 2023248 | B39: 37 | C39: =VLOOKUP(A39,[1]第三批咨询报名统计!$E$2:$G$144,3,0) -> 1 | D39: 血型鉴定及不规则抗体筛查质控品 | E39: 8支/盒 | F39: 血栓弹力图仪CFMS LEPU-8800 | G39: 输血科
A40: 2023249 | B40: 38 | C40: =VLOOKUP(A40,[1]第三批咨询报名统计!$E$2:$G$144,3,0) -> 0 | D40: ABO、RhD血型定型检测卡(单克隆抗体) | E40: 12人份/盒 | F40: 手工操作 卡式单人份独立包装，适用于血液标本检测 | G40: 输血科
B41: 39 | D41: ABO、RhD血型检测卡(微柱凝胶) | E41: 12卡/盒 | F41: 手工操作 卡式双人份独立包装，适用于血液标本检测 | G41: 输血科
B42: 40 | D42: ABO血型反定型检测卡(微柱凝胶) | E42: 12卡/盒(货号:BX1010) | F42: 手工操作 卡式多人份独立包装，适用于血液标本检测 | G42: 输血科
B43: 41 | D43: ABO血型反定型试剂盒(人血红细胞) | E43: 每盒有A₁、B、O细胞各一瓶。5mL/瓶,浓度4%(货号:BX2001-5-1) | F43: 手工操作 独立包装，适用于血液标本检测 | G43: 输血科
B44: 42 | D44: Rh血型抗原检测卡(单克隆抗体) | E44: 12人份/盒 | F44: 手工操作 卡式单人份独立包装，适用于血液标本检测 | G44: 输血科
B45: 43 | D45: Rh血型抗原检测卡(单克隆抗体) | E45: 24人份/盒(货号:BX1005-1) | F45: 手工操作 卡式双人份独立包装，适用于血液标本检测 | G45: 输血科
B46: 44 | D46: 不规则抗体检测试剂(人血红细胞) | E46: 每盒有OⅠ、OⅡ、OⅢ红细胞各一瓶,5ml/瓶,浓度4% | F46: 手工操作 独立包装，适用于血液标本检测 | G46: 输血科
B47: 45 | D47: 抗人球蛋白检测卡 | E47: 12卡/盒 | F47: 手工操作 卡式多人份独立包装，适用于血液标本检测 | G47: 输血科
B48: 46 | D48: 抗人球蛋白检测卡(抗IgG、抗C3d) | E48: 12卡/盒(货号:BX1016) | F48: 手工操作 卡式多人份独立包装，适用于血液标本检测 | G48: 输血科
B49: 47 | D49: 抗人球蛋白检测卡(抗IgG+C3d) | E49: 12卡/盒(货号:BX1015) | F49: 手工操作 卡式多人份独立包装，适用于血液标本检测 | G49: 输血科
A50: 2023250 | B50: 48 | C50: =VLOOKUP(A50,[1]第三批咨询报名统计!$E$2:$G$144,3,0) -> 2 | D50: 凝聚胺介质试剂 | E50: 150人份/盒 | F50: 用于交叉配血试验（手工） | G50: 输血科
A51: 2023251 | B51: 49 | C51: =VLOOKUP(A51,[1]第三批咨询报名统计!$E$2:$G$144,3,0) -> 1 | D51: 碱性清洁剂 | E51: 3800ml | F51: 设备清洁用 | G51: 中心供应室
A52: 2023252 | B52: 50 | C52: =VLOOKUP(A52,[1]第三批咨询报名统计!$E$2:$G$144,3,0) -> 1 | D52: 测序反应通用试剂盒 | E52: 25μl/支 | F52: PCR仪（定性PCR仪MASTERCYCLER 96孔） | G52: 药剂科
A53: 2023253 | B53: 51 | C53: =VLOOKUP(A53,[1]第三批咨询报名统计!$E$2:$G$144,3,0) -> 0 | D53: 丙戊酸定标液 | E53: 1×5mL,5×2mL | F53: 全自动药物浓度分析仪（西门子Viva-E) | G53: 药剂科
A54: 2023254 | B54: 52 | C54: =VLOOKUP(A54,[1]第三批咨询报名统计!$E$2:$G$144,3,0) -> 1 | D54: 人类免疫缺陷病毒(HIV)1+2型抗体检测试剂盒(胶体硒法) | E54: 100个测试/包装袋 | F54: 手工操作 胶体硒法定性检测人类免疫缺陷病毒1+2型抗体 | G54: 医学检验科
B55: 53 | D55: 人类免疫缺陷病毒p24抗原及抗体检测试剂盒(胶体硒法) | E55: 100个测试/包装袋 | F55: 手工操作 胶体硒法定性检测人类免疫缺陷病毒p24抗原及抗体 | G55: 医学检验科
A56: 2023255 | B56: 54 | C56: =VLOOKUP(A56,[1]第三批咨询报名统计!$E$2:$G$144,3,0) -> 0 | D56: 胰酶 | E56: 100g/瓶 | F56: 染色体核型分析的消化液 | G56: 医学检验科
A57: 2023256 | B57: 55 | C57: =VLOOKUP(A57,[1]第三批咨询报名统计!$E$2:$G$144,3,0) -> 0 | D57: 妊娠相关血浆蛋白A测定试剂（时间分辨荧光法） | E57: 96人份/盒 | F57: PerkinElmer 6000Immunoanalyzer，唐筛项目 | G57: 医学检验科
B58: 56 | D58: 游离绒毛膜促性腺激素β亚基测定试剂盒（时间分辨荧光法） | E58: 96人份/盒 | F58: PerkinElmer 6000Immunoanalyzer，唐筛项目 | G58: 医学检验科
B59: 57 | D59: 甲胎蛋白测定试剂盒（时间分辨荧光法） | E59: 96人份/盒 | F59: PerkinElmer 6000Immunoanalyzer，唐筛项目 | G59: 医学检验科
B60: 58 | D60: 游离雌三醇测定试剂盒（时间分辨荧光法） | E60: 96人份/盒 | F60: PerkinElmer 6000Immunoanalyzer，唐筛项目 | G60: 医学检验科
B61: 59 | D61: 诱导剂 | E61: 8x30ml/盒 | F61: PerkinElmer 6000Immunoanalyzer唐氏筛查用试剂 | G61: 医学检验科
B62: 60 | D62: 洗液 | E62: 8x30ml/盒 | F62: PerkinElmer 6000Immunoanalyzer唐氏筛查用试剂 | G62: 医学检验科
A63: 2023257 | B63: 61 | C63: =VLOOKUP(A63,[1]第三批咨询报名统计!$E$2:$G$144,3,0) -> 0 | D63: C3毛细管 | E63: 1根/盒 | F63: sebia赛比亚血红蛋白电泳仪器的配件 | G63: 医学检验科
B64: 62 | D64: C3毛细管仪器护理液 | E64: 25ml/盒 | F64: sebia赛比亚血红蛋白电泳仪的护理液 | G64: 医学检验科
B65: 63 | D65: C3清洗液 | E65: 75ml/盒 | F65: sebia赛比亚血红蛋白电泳仪的清洗液 | G65: 医学检验科
B66: 64 | D66: C3样品稀释杯 | E66: 24x14 | F66: sebia赛比亚血红蛋白电泳仪的稀释杯 | G66: 医学检验科
B67: 65 | D67: CAPILLARYS保养套件 | E67: 1个/盒 | F67: sebia赛比亚血红蛋白电泳仪的保养套件 | G67: 医学检验科
B68: 66 | D68: 正常HbA2质控品 | E68: 5瓶/盒 | F68: sebia赛比亚血红蛋白电泳仪的质控品 | G68: 医学检验科
B69: 67 | D69: 质控品用试管（带盖） | E69: 20个/盒 | F69: sebia赛比亚血红蛋白电泳仪的质控品试管 | G69: 医学检验科
B70: 68 | D70: 血红蛋白测定试剂盒（电泳法） | E70: 2x700ml | F70: sebia赛比亚血红蛋白电泳仪的主要试剂盒 | G70: 医学检验科
A71: 2023258 | B71: 69 | C71: =VLOOKUP(A71,[1]第三批咨询报名统计!$E$2:$G$144,3,0) -> 0 | D71: 清洗液 | E71: 8×40mL | F71: 化学发光 分析仪DELFIA Xpress6007 | G71: 医学检验科
B72: 70 | D72: 游离雌三醇测定试剂盒(时间分辨荧光法) | E72: 96人份/盒 | F72: 化学发光 分析仪DELFIA Xpress6006 | G72: 医学检验科
B73: 71 | D73: 游离绒毛膜促性腺激素β亚基测定试剂盒(时间分辨荧光法) | E73: 96人份/盒 | F73: 化学发光 分析仪DELFIA Xpress6006 | G73: 医学检验科
A74: 2023259 | B74: 72 | C74: =VLOOKUP(A74,[1]第三批咨询报名统计!$E$2:$G$144,3,0) -> 1 | D74: 便隐血(FOB)检测试剂(胶体金法) | E74: 条型单人份:50人份/盒(带样品收集管) | F74: 手工操作 条式单人份独立包装，适用于粪便或体液标本检测 | G74: 医学检验科
B75: 73 | D75: 乙型肝炎病毒表面抗原检测试剂盒(胶体金法) | E75: 条型筒装:100人份/盒(25人份/筒×4筒) | F75: 手工操作 单人份包装，血清、血浆胶体金法定性检测乙型肝炎病毒表面抗原 | G75: 医学检验科
B76: 74 | D76: 血红蛋白试纸条(干式化学法) | E76: 试纸条型:100人份/盒 | F76: 手工操作 单人份包装，干化学法体液、粪便隐血试验 | G76: 医学检验科
A77: 2023260 | B77: 75 | C77: =VLOOKUP(A77,[1]第三批咨询报名统计!$E$2:$G$144,3,0) -> 0 | D77: CD3/CD16+CD56/CD45/CD19检测试剂盒(流式细胞仪法) | E77: 100测试/瓶 | F77: 安捷伦NovoCyte流式细胞仪 | G77: 医学检验科
B78: 76 | D78: CD3/CD16+CD56/CD45/CD19检测试剂盒(流式细胞仪法-FITC/PE/PerCP/APC) | E78: 100测试/瓶 | F78: 安捷伦NovoCyte流式细胞仪 | G78: 医学检验科
B79: 77 | D79: CD3/CD16+CD56/CD45/CD19检测试剂盒(流式细胞仪法) | E79: 100测试/盒 | F79: 安捷伦NovoCyte流式细胞仪 | G79: 医学检验科
B80: 78 | D80: CD3/CD8/CD45/CD4检测试剂盒(流式细胞仪法-FITC/PE/PerCP/APC) | E80: 100测试/瓶 | F80: 安捷伦NovoCyte流式细胞仪 | G80: 医学检验科
A81: 2023261 | B81: 79 | C81: =VLOOKUP(A81,[1]第三批咨询报名统计!$E$2:$G$144,3,0) -> 2 | D81: 阿米卡星药敏实验纸片(扩散法) | E81: 50片/支 | F81: MH法细菌药敏试验用；微生物检验用 | G81: 医学检验科
B82: 80 | D82: 氨苄西林/舒巴坦药敏实验纸片(扩散法) | E82: 50片/支 | F82: MH法细菌药敏试验用；微生物检验用 | G82: 医学检验科
B83: 81 | D83: 氨苄西林药敏实验纸片(扩散法) | E83: 50片/支 | F83: MH法细菌药敏试验用；微生物检验用 | G83: 医学检验科
B84: 82 | D84: 氨曲南药敏实验纸片(扩散法) | E84: 50片/支 | F84: MH法细菌药敏试验用；微生物检验用 | G84: 医学检验科
B85: 83 | D85: 苯唑西林药敏实验纸片(扩散法) | E85: 50片/支 | F85: MH法细菌药敏试验用；微生物检验用 | G85: 医学检验科
B86: 84 | D86: 厄他培南药敏实验纸片(扩散法) | E86: 50片/支 | F86: MH法细菌药敏试验用；微生物检验用 | G86: 医学检验科
B87: 85 | D87: 红霉素药敏实验纸片(扩散法) | E87: 50片/支 | F87: MH法细菌药敏试验用；微生物检验用 | G87: 医学检验科
B88: 86 | D88: 环丙沙星药敏实验纸片(扩散法) | E88: 50片/支 | F88: MH法细菌药敏试验用；微生物检验用 | G88: 医学检验科
B89: 87 | D89: 磺胺甲恶唑/甲氧苄啶药敏实验纸片(扩散法) | E89: 50片/支 | F89: MH法细菌药敏试验用；微生物检验用 | G89: 医学检验科
B90: 88 | D90: 克林霉素药敏实验纸片(扩散法) | E90: 50片/支 | F90: MH法细菌药敏试验用；微生物检验用 | G90: 医学检验科
B91: 89 | D91: 利奈唑胺药敏实验纸片(扩散法) | E91: 50片/支 | F91: MH法细菌药敏试验用；微生物检验用 | G91: 医学检验科
B92: 90 | D92: 氯霉素药敏实验纸片(扩散法) | E92: 50片/支 | F92: MH法细菌药敏试验用；微生物检验用 | G92: 医学检验科
B93: 91 | D93: 美罗培能药敏实验纸片(扩散法) | E93: 50片/支 | F93: MH法细菌药敏试验用；微生物检验用 | G93: 医学检验科
... B109: 107 | D109: 左氧氟沙星药敏实验纸片(扩散法) | E109: 50片/支 | F109: MH法药敏试验用；微生物检验用 | G109: 医学检验科
A110: 2023262 | B110: 108 | C110: =VLOOKUP(A110,[1]第三批咨询报名统计!$E$2:$G$144,3,0) -> 0 | D110: 血凝清洗液 | E110: 5L | F110: 希森美康凝血仪cs5100 | G110: 医学检验科
A111: 2023263 | B111: 109 | C111: =VLOOKUP(A111,[1]第三批咨询报名统计!$E$2:$G$144,3,0) -> 1 | D111: A型流感病毒IgM抗体检测试剂盒(磁微粒化学发光法) | E111: 100人份/盒 | F111: 化学发光分析仪（赛维生物VI-200） | G111: 医学检验科
B112: 110 | D112: B型流感病毒IgM抗体检测试剂盒(磁微粒化学发光法) | E112: 100人份/盒 | F112: 化学发光分析仪（赛维生物VI-200） | G112: 医学检验科
B113: 111 | D113: EB病毒VCA抗体(IgA)检测试剂盒(磁微粒化学发光法) | E113: 100人份/盒 | F113: 化学发光分析仪（赛维生物VI-200） | G113: 医学检验科
B114: 112 | D114: EB病毒壳抗原(VCA)IgG抗体检测试剂盒(磁微粒化学发光法) | E114: 100人份/盒 | F114: 化学发光分析仪（赛维生物VI-200） | G114: 医学检验科
B115: 113 | D115: EB病毒早期抗原(EA)IgA抗体检测试剂盒(磁微粒化学发光法) | E115: 100人份/盒 | F115: 化学发光分析仪（赛维生物VI-200） | G115: 医学检验科
...

Sheet Sheet3
