Workbook

Sheet Sheet1
A1: 第三批试剂耗材咨询产品项目清单
A2: 标段号 | B2: 序号 | C2: 商品名称 | D2: 参考规格/型号 | E2: 采购需求（适用设备、技术、服务要求、方法学等） | F2: 适用科室
A3: 2023227 | B3: 1 | C3: M-53探头清洁液 | D3: 50ml/瓶 | E3: 适用五分类血液分析仪（迈瑞BC-5380） | F3: 门诊
A4: 2023228 | B4: 2 | C4: 曙红Y | D4: 25g/瓶 | E4: 手工操作 生物染色剂 | F4: 病理科
B5: 3 | C5: 无水苏木色精 | D5: 71020784 显微镜用 FMP 10g | E5: 手工操作 生物染色剂 | F5: 病理科
A6: 2023229 | B6: 4 | C6: 细胞保存液 | D6: TCT-300 200人份/箱 | E6: 手工操作，耗材 | F6: 病理科
A7: 2023230 | B7: 5 | C7: 上皮细胞FH染色试剂 | D7: 结直肠粘膜细胞型 医用单人份 | E7: 手工操作 | F7: 病理科
A8: 2023231 | B8: 6 | C8: 钠库仑一氧化氮检测器 | D8: SV-eNO-03 | E8: 适用钠库仑呼气分析仪 | F8: 呼吸与危重症医学科住院病区
A9: 2023232 | B9: 7 | C9: 降钙素原测定试剂盒（免疫色谱法） | D9: 25人份/盒 | E9: 适用于赛默飞胶体金试纸分析仪 型号:HR201 | F9: 急诊、ICU
A10: 2023233 | B10: 8 | C10: B型鈉尿肽检测试剂盒（荧光免疫法） | D10: 25人份/盒 | E10: 适用于荧光免疫分析仪Quidel Triage MeterPro 专机专用 | F10: 急诊、ICU、心内
B11: 9 | C11: 心肺功能五项联检试剂盒（荧光免疫法） | D11: 25人份/盒 | E11: 适用于荧光免疫分析仪Quidel Triage MeterPro 专机专用 | F11: 急诊、ICU、心内
B12: 10 | C12: 心肌损伤三项联检试剂盒（免疫荧光法） | D12: 25人份/盒 | E12: 适用于荧光免疫分析仪Quidel Triage MeterPro 专机专用 | F12: 急诊、ICU、心内
A13: 2023234 | B13: 11 | C13: 测试卡 | D13: SC90 | E13: 血气分析仪（丹麦雷度ABL90 FLEX） | F13: 急诊内科、儿科
A14: 2023235 | B14: 12 | C14: 抗D(IgG+IgM)血型定型试剂(单克隆抗体) | D14: 10nl/瓶 | E14: 用于血型鉴定（手工） | F14: 输血科
A15: 2023236 | B15: 13 | C15: ABO/Rh 血型复检卡(柱凝集法) | D15: 707136(产品编码):100卡/盒 | E15: 手工操作 卡式双人份独立包装，适用于血液标本检测 | F15: 输血科
B16: 14 | C16: ABO/Rh血型复检卡(柱凝集法) | D16: 707135(产品编码):100卡/盒 | E16: 手工操作 卡式双人份独立包装，适用于血液标本检测 | F16: 输血科
B17: 15 | C17: ABO正反定型及RhD血型定型试剂卡(柱凝集法) | D17: 707100 400卡/盒(20卡/小盒) | E17: 奥森多血型分析仪、手工 | F17: 输血科
B18: 16 | C18: 抗人球蛋白(IgG)检测卡(柱凝集法) | D18: 100试剂卡/包装 | E18: 手工操作 卡式多人份独立包装，适用于血液标本检测 | F18: 输血科
A19: 2023237 | B19: 17 | C19: 血栓弹力图(肝素酶杯)检测试剂盒(粘度测定法) | D19: 5人份/盒 | E19: 血栓弹力图仪CFMS LEPU-8800 | F19: 输血科
B20: 18 | C20: 血栓弹力图(普通杯)检测试剂盒(粘度测定法) | D20: 10人份/盒 | E20: 血栓弹力图仪CFMS LEPU-8800 | F20: 输血科
B21: 19 | C21: 血小板聚集功能(AA途径)检测试剂盒(粘度测定法) | D21: 1人份/盒 | E21: 血栓弹力图仪CFMS LEPU-8800 | F21: 输血科
B22: 20 | C22: 血小板聚集功能(ADP及AA途径)检测试剂盒(粘度测定法) | D22: 1人份/盒 | E22: 血栓弹力图仪CFMS LEPU-8800 | F22: 输血科
B23: 21 | C23: 血小板聚集功能(ADP途径)检测试剂盒(粘度测定法) | D23: 1人份/盒 | E23: 血栓弹力图仪CFMS LEPU-8800 | F23: 输血科
A24: 2023238 | B24: 22 | C24: ABO血型反定型、不规则抗体筛查质控品 | D24: 3ml/支,5支/套 | E24: 手工操作 独立包装，适用于室内质控检测 | F24: 输血科
A25: 2023239 | B25: 23 | C25: 半自动血型分析仪专用稀释杯(Vigion稀释盘) | D25: 180个/盒 | E25: 强生ORTHO AutoVue Innova血型分析仪 | F25: 输血科
A26: 2023240 | B26: 24 | C26: 仪器保养液 | D26: 15×12mL/盒 | E26: 奥森多血型分析仪 | F26: 输血科
A27: 2023241 | B27: 25 | C27: 抗D(IgM+IgG)血型定型试剂(单克隆抗体) | D27: 10瓶/盒 | E27: 手工操作 独立包装，适用于血液标本检测 | F27: 输血科
A28: 2023242 | B28: 26 | C28: RhD(IgM)血型定型试剂(单克隆抗体) | D28: 1支/盒 | E28: 手工操作 独立包装，适用于血液标本检测 | F28: 输血科
B29: 27 | C29: 抗A抗B血型定型试剂(单克隆抗体) | D29: 10ml | E29: 手工操作 独立包装，适用于血液标本检测 | F29: 输血科
B30: 28 | C30: 抗体筛选红细胞试剂盒 | D30: 5ml/支 | E30: 手工操作 独立包装，适用于血液标本检测 | F30: 输血科
A31: 2023243 | B31: 29 | C31: 血型试剂质控试剂盒 | D31: 4mL/支,4支/盒 | E31: 奥森多血型分析仪、手工 | F31: 输血科
A32: 2023244 | B32: 30 | C32: 抗人球蛋白(C3d)检测试剂盒 | D32: 5ml/支 | E32: 用于Coombs试验（手工） | F32: 输血科
B33: 31 | C33: 抗人球蛋白(IgG)检测试剂盒 | D33: 5ml/支 | E33: 用于Coombs试验（手工） | F33: 输血科
B34: 32 | C34: 抗人球蛋白(抗IgG,C3d)检测试剂盒 | D34: 10ml/支 | E34: 用于Coombs试验（手工） | F34: 输血科
A35: 2023245 | B35: 33 | C35: 样本释放剂（原2me） | D35: 1ml | E35: 用于新生儿溶血病检测（手工） | F35: 输血科
A36: 2023246 | B36: 34 | C36: 一次性使用单采血液成份分离器 | D36: P-2000IU | E36: 血液成份分离仪（四川南格尔NGL XCF3000） | F36: 输血科
B37: 35 | C37: 一次性使用单采血液成份分离器 | D37: P-2000IL | E37: 血液成份分离仪（四川南格尔NGL XCF3000） | F37: 输血科
A38: 2023247 | B38: 36 | C38: 交叉配血质控品 | D38: 5支/盒 | E38: 手工操作 独立包装，适用于室内质控检测 | F38: 输血科
A39: 2023248 | B39: 37 | C39: 血型鉴定及不规则抗体筛查质控品 | D39: 8支/盒 | E39: 血栓弹力图仪CFMS LEPU-8800 | F39: 输血科
A40: 2023249 | B40: 38 | C40: ABO、RhD血型定型检测卡(单克隆抗体) | D40: 12人份/盒 | E40: 手工操作 卡式单人份独立包装，适用于血液标本检测 | F40: 输血科
...

Sheet Sheet2
A1: 第三批试剂耗材咨询产品项目清单
A2: 标段号 | B2: 序号 | C2: 报名家数 | D2: 商品名称 | E2: 参考规格/型号 | F2: 采购需求（适用设备、技术、服务要求、方法学等） | G2: 适用科室
A3: 2023227 | B3: 1 | C3: =VLOOKUP(A3,[1]第三批咨询报名统计!$E$2:$G$144,3,0) -> 0 | D3: M-53探头清洁液 | E3: 50ml/瓶 | F3: 适用五分类血液分析仪（迈瑞BC-5380） | G3: 门诊
A4: 2023228 | B4: 2 | C4: =VLOOKUP(A4,[1]第三批咨询报名统计!$E$2:$G$144,3,0) -> 0 | D4: 曙红Y | E4: 25g/瓶 | F4: 手工操作 生物染色剂 | G4: 病理科
B5: 3 | D5: 无水苏木色精 | E5: 71020784 显微镜用 FMP 10g | F5: 手工操作 生物染色剂 | G5: 病理科
A6: 2023229 | B6: 4 | C6: =VLOOKUP(A6,[1]第三批咨询报名统计!$E$2:$G$144,3,0) -> 1 | D6: 细胞保存液 | E6: TCT-300 200人份/箱 | F6: 手工操作，耗材 | G6: 病理科
A7: 2023230 | B7: 5 | C7: =VLOOKUP(A7,[1]第三批咨询报名统计!$E$2:$G$144,3,0) -> 0 | D7: 上皮细胞FH染色试剂 | E7: 结直肠粘膜细胞型 医用单人份 | F7: 手工操作 | G7: 病理科
A8: 2023231 | B8: 6 | C8: =VLOOKUP(A8,[1]第三批咨询报名统计!$E$2:$G$144,3,0) -> 0 | D8: 钠库仑一氧化氮检测器 | E8: SV-eNO-03 | F8: 适用钠库仑呼气分析仪 | G8: 呼吸与危重症医学科住院病区
A9: 2023232 | B9: 7 | C9: =VLOOKUP(A9,[1]第三批咨询报名统计!$E$2:$G$144,3,0) -> 1 | D9: 降钙素原测定试剂盒（免疫色谱法） | E9: 25人份/盒 | F9: 适用于赛默飞胶体金试纸分析仪 型号:HR201 | G9: 急诊、ICU
A10: 2023233 | B10: 8 | C10: =VLOOKUP(A10,[1]第三批咨询报名统计!$E$2:$G$144,3,0) -> 1 | D10: B型鈉尿肽检测试剂盒（荧光免疫法） | E10: 25人份/盒 | F10: 适用于荧光免疫分析仪Quidel Triage MeterPro 专机专用 | G10: 急诊、ICU、心内
B11: 9 | D11: 心肺功能五项联检试剂盒（荧光免疫法） | E11: 25人份/盒 | F11: 适用于荧光免疫分析仪Quidel Triage MeterPro 专机专用 | G11: 急诊、ICU、心内
B12: 10 | D12: 心肌损伤三项联检试剂盒（免疫荧光法） | E12: 25人份/盒 | F12: 适用于荧光免疫分析仪Quidel Triage MeterPro 专机专用 | G12: 急诊、ICU、心内
A13: 2023234 | B13: 11 | C13: =VLOOKUP(A13,[1]第三批咨询报名统计!$E$2:$G$144,3,0) -> 1 | D13: 测试卡 | E13: SC90 | F13: 血气分析仪（丹麦雷度ABL90 FLEX） | G13: 急诊内科、儿科
A14: 2023235 | B14: 12 | C14: =VLOOKUP(A14,[1]第三批咨询报名统计!$E$2:$G$144,3,0) -> 2 | D14: 抗D(IgG+IgM)血型定型试剂(单克隆抗体) | E14: 10nl/瓶 | F14: 用于血型鉴定（手工） | G14: 输血科
A15: 2023236 | B15: 13 | C15: =VLOOKUP(A15,[1]第三批咨询报名统计!$E$2:$G$144,3,0) -> 2 | D15: ABO/Rh 血型复检卡(柱凝集法) | E15: 707136(产品编码):100卡/盒 | F15: 手工操作 卡式双人份独立包装，适用于血液标本检测 | G15: 输血科
B16: 14 | D16: ABO/Rh血型复检卡(柱凝集法) | E16: 707135(产品编码):100卡/盒 | F16: 手工操作 卡式双人份独立包装，适用于血液标本检测 | G16: 输血科
B17: 15 | D17: ABO正反定型及RhD血型定型试剂卡(柱凝集法) | E17: 707100 400卡/盒(20卡/小盒) | F17: 奥森多血型分析仪、手工 | G17: 输血科
B18: 16 | D18: 抗人球蛋白(IgG)检测卡(柱凝集法) | E18: 100试剂卡/包装 | F18: 手工操作 卡式多人份独立包装，适用于血液标本检测 | G18: 输血科
A19: 2023237 | B19: 17 | C19: =VLOOKUP(A19,[1]第三批咨询报名统计!$E$2:$G$144,3,0) -> 1 | D19: 血栓弹力图(肝素酶杯)检测试剂盒(粘度测定法) | E19: 5人份/盒 | F19: 血栓弹力图仪CFMS LEPU-8800 | G19: 输血科
B20: 18 | D20: 血栓弹力图(普通杯)检测试剂盒(粘度测定法) | E20: 10人份/盒 | F20: 血栓弹力图仪CFMS LEPU-8800 | G20: 输血科
B21: 19 | D21: 血小板聚集功能(AA途径)检测试剂盒(粘度测定法) | E21: 1人份/盒 | F21: 血栓弹力图仪CFMS LEPU-8800 | G21: 输血科
B22: 20 | D22: 血小板聚集功能(ADP及AA途径)检测试剂盒(粘度测定法) | E22: 1人份/盒 | F22: 血栓弹力图仪CFMS LEPU-8800 | G22: 输血科
B23: 21 | D23: 血小板聚集功能(ADP途径)检测试剂盒(粘度测定法) | E23: 1人份/盒 | F23: 血栓弹力图仪CFMS LEPU-8800 | G23: 输血科
A24: 2023238 | B24: 22 | C24: =VLOOKUP(A24,[1]第三批咨询报名统计!$E$2:$G$144,3,0) -> 1 | D24: ABO血型反定型、不规则抗体筛查质控品 | E24: 3ml/支,5支/套 | F24: 手工操作 独立包装，适用于室内质控检测 | G24: 输血科
A25: 2023239 | B25: 23 | C25: =VLOOKUP(A25,[1]第三批咨询报名统计!$E$2:$G$144,3,0) -> 1 | D25: 半自动血型分析仪专用稀释杯(Vigion稀释盘) | E25: 180个/盒 | F25: 强生ORTHO AutoVue Innova血型分析仪 | G25: 输血科
A26: 2023240 | B26: 24 | C26: =VLOOKUP(A26,[1]第三批咨询报名统计!$E$2:$G$144,3,0) -> 1 | D26: 仪器保养液 | E26: 15×12mL/盒 | F26: 奥森多血型分析仪 | G26: 输血科
A27: 2023241 | B27: 25 | C27: =VLOOKUP(A27,[1]第三批咨询报名统计!$E$2:$G$144,3,0) -> 2 | D27: 抗D(IgM+IgG)血型定型试剂(单克隆抗体) | E27: 10瓶/盒 | F27: 手工操作 独立包装，适用于血液标本检测 | G27: 输血科
A28: 2023242 | B28: 26 | C28: =VLOOKUP(A28,[1]第三批咨询报名统计!$E$2:$G$144,3,0) -> 1 | D28: RhD(IgM)血型定型试剂(单克隆抗体) | E28: 1支/盒 | F28: 手工操作 独立包装，适用于血液标本检测 | G28: 输血科
B29: 27 | D29: 抗A抗B血型定型试剂(单克隆抗体) | E29: 10ml | F29: 手工操作 独立包装，适用于血液标本检测 | G29: 输血科
B30: 28 | D30: 抗体筛选红细胞试剂盒 | E30: 5ml/支 | F30: 手工操作 独立包装，适用于血液标本检测 | G30: 输血科
A31: 2023243 | B31: 29 | C31: =VLOOKUP(A31,[1]第三批咨询报名统计!$E$2:$G$144,3,0) -> 2 | D31: 血型试剂质控试剂盒 | E31: 4mL/支,4支/盒 | F31: 奥森多血型分析仪、手工 | G31: 输血科
A32: 2023244 | B32: 30 | C32: =VLOOKUP(A32,[1]第三批咨询报名统计!$E$2:$G$144,3,0) -> 1 | D32: 抗人球蛋白(C3d)检测试剂盒 | E32: 5ml/支 | F32: 用于Coombs试验（手工） | G32: 输血科
B33: 31 | D33: 抗人球蛋白(IgG)检测试剂盒 | E33: 5ml/支 | F33: 用于Coombs试验（手工） | G33: 输血科
B34: 32 | D34: 抗人球蛋白(抗IgG,C3d)检测试剂盒 | E34: 10ml/支 | F34: 用于Coombs试验（手工） | G34: 输血科
A35: 2023245 | B35: 33 | C35: =VLOOKUP(A35,[1]第三批咨询报名统计!$E$2:$G$144,3,0) -> 1 | D35: 样本释放剂（原2me） | E35: 1ml | F35: 用于新生儿溶血病检测（手工） | G35: 输血科
A36: 2023246 | B36: 34 | C36: =VLOOKUP(A36,[1]第三批咨询报名统计!$E$2:$G$144,3,0) -> 0 | D36: 一次性使用单采血液成份分离器 | E36: P-2000IU | F36: 血液成份分离仪（四川南格尔NGL XCF3000） | G36: 输血科
B37: 35 | D37: 一次性使用单采血液成份分离器 | E37: P-2000IL | F37: 血液成份分离仪（四川南格尔NGL XCF3000） | G37: 输血科
A38: 2023247 | B38: 36 | C38: =VLOOKUP(A38,[1]第三批咨询报名统计!$E$2:$G$144,3,0) -> 1 | D38: 交叉配血质控品 | E38: 5支/盒 | F38: 手工操作 独立包装，适用于室内质控检测 | G38: 输血科
A39: 2023248 | B39: 37 | C39: =VLOOKUP(A39,[1]第三批咨询报名统计!$E$2:$G$144,3,0) -> 1 | D39: 血型鉴定及不规则抗体筛查质控品 | E39: 8支/盒 | F39: 血栓弹力图仪CFMS LEPU-8800 | G39: 输血科
A40: 2023249 | B40: 38 | C40: =VLOOKUP(A40,[1]第三批咨询报名统计!$E$2:$G$144,3,0) -> 0 | D40: ABO、RhD血型定型检测卡(单克隆抗体) | E40: 12人份/盒 | F40: 手工操作 卡式单人份独立包装，适用于血液标本检测 | G40: 输血科
...

Sheet Sheet3
